BEGIN:VCALENDAR
VERSION:2.0
PRODID:-//Library Market//iCal Export//EN
BEGIN:VEVENT
SUMMARY:Color Our Garden
UID:312
DTSTAMP:20260419T153800Z
DTSTART:20260429T203000Z
DTEND:20260429T210000Z
LOCATION:18 Hauppauge Rd, Commack, NY 11725, United States
ROOM: Garden
DESCRIPTION:Create chalk paint with Ms. Regina, then we will paint our cou
 rtyard sidewalk. Please dress for an outdoor mess. The rain date for this 
 program is Wednesday, May 6. Please note: This program will incorporate fo
 od items which will allow children to explore textures, smells, and colors
 , but is not intended to eat. This program may not be suitable for those w
 ith food allergies. 
URL:https://commack.librarycalendar.com/event/color-our-garden-312
END:VEVENT
END:VCALENDAR
